BEGIN:VCALENDAR
VERSION:2.0
PRODID:-//Uudenkaupungin Urheilukeskus - ECPv4.6.21//NONSGML v1.0//EN
CALSCALE:GREGORIAN
METHOD:PUBLISH
X-WR-CALNAME:Uudenkaupungin Urheilukeskus
X-ORIGINAL-URL:https://ukinurheilukeskus.fi
X-WR-CALDESC:Events for Uudenkaupungin Urheilukeskus
BEGIN:VEVENT
DTSTART;TZID=Europe/Helsinki:20240313T173000
DTEND;TZID=Europe/Helsinki:20240313T183000
DTSTAMP:20260422T213109
CREATED:20240216T152652Z
LAST-MODIFIED:20240312T134838Z
UID:10710-1710351000-1710354600@ukinurheilukeskus.fi
SUMMARY:UUTTA!!! Lihaskunto treeni CIRCUIT kiertoharjoitteluna
DESCRIPTION:Mia \n
URL:https://ukinurheilukeskus.fi/event/movebody-20-2024-03-13/
LOCATION:Mältintie 10\, Uusikaupunki\, 23500\, Suomi
END:VEVENT
END:VCALENDAR