BEGIN:VCALENDAR
VERSION:2.0
PRODID:-//Uudenkaupungin Urheilukeskus - ECPv4.6.21//NONSGML v1.0//EN
CALSCALE:GREGORIAN
METHOD:PUBLISH
X-WR-CALNAME:Uudenkaupungin Urheilukeskus
X-ORIGINAL-URL:https://ukinurheilukeskus.fi
X-WR-CALDESC:Events for Uudenkaupungin Urheilukeskus
BEGIN:VEVENT
DTSTART;TZID=Europe/Helsinki:20240110T173000
DTEND;TZID=Europe/Helsinki:20240110T183000
DTSTAMP:20260423T001231
CREATED:20231229T111247Z
LAST-MODIFIED:20231229T111252Z
UID:10405-1704907800-1704911400@ukinurheilukeskus.fi
SUMMARY:Move&Body
DESCRIPTION:Mia \n
URL:https://ukinurheilukeskus.fi/event/movebody-15/
LOCATION:Mältintie 10\, Uusikaupunki\, 23500\, Suomi
END:VEVENT
END:VCALENDAR