BEGIN:VCALENDAR
VERSION:2.0
PRODID:-//Uudenkaupungin Urheilukeskus - ECPv4.6.21//NONSGML v1.0//EN
CALSCALE:GREGORIAN
METHOD:PUBLISH
X-WR-CALNAME:Uudenkaupungin Urheilukeskus
X-ORIGINAL-URL:https://ukinurheilukeskus.fi
X-WR-CALDESC:Events for Uudenkaupungin Urheilukeskus
BEGIN:VEVENT
DTSTART;TZID=Europe/Helsinki:20240917T190000
DTEND;TZID=Europe/Helsinki:20240917T200000
DTSTAMP:20260422T133222
CREATED:20240822T143352Z
LAST-MODIFIED:20240822T143404Z
UID:11234-1726599600-1726603200@ukinurheilukeskus.fi
SUMMARY:Miesten Kuntosalicircuit\, RYHMÄ ALKAA!
DESCRIPTION:Mia \n
URL:https://ukinurheilukeskus.fi/event/miesten-kuntosalicircuit-ryhma-alkaa-2/
LOCATION:Mältintie 10\, Uusikaupunki\, 23500\, Suomi
END:VEVENT
END:VCALENDAR