BEGIN:VCALENDAR
VERSION:2.0
PRODID:-//Uudenkaupungin Urheilukeskus - ECPv4.6.21//NONSGML v1.0//EN
CALSCALE:GREGORIAN
METHOD:PUBLISH
X-WR-CALNAME:Uudenkaupungin Urheilukeskus
X-ORIGINAL-URL:https://ukinurheilukeskus.fi
X-WR-CALDESC:Events for Uudenkaupungin Urheilukeskus
BEGIN:VEVENT
DTSTART;TZID=Europe/Helsinki:20250506T190000
DTEND;TZID=Europe/Helsinki:20250506T200000
DTSTAMP:20260422T013656
CREATED:20250410T114858Z
LAST-MODIFIED:20250410T114901Z
UID:12282-1746558000-1746561600@ukinurheilukeskus.fi
SUMMARY:Miesten kuntosalicircuit\, kevään viimeinen!
DESCRIPTION:Jyri \n
URL:https://ukinurheilukeskus.fi/event/miesten-kuntosalicircuit-kevaan-viimeinen/
LOCATION:Mältintie 10\, Uusikaupunki\, 23500\, Suomi
END:VEVENT
END:VCALENDAR