BEGIN:VCALENDAR
VERSION:2.0
PRODID:-//Uudenkaupungin Urheilukeskus - ECPv4.6.21//NONSGML v1.0//EN
CALSCALE:GREGORIAN
METHOD:PUBLISH
X-WR-CALNAME:Uudenkaupungin Urheilukeskus
X-ORIGINAL-URL:https://ukinurheilukeskus.fi
X-WR-CALDESC:Events for Uudenkaupungin Urheilukeskus
BEGIN:VEVENT
DTSTART;TZID=Europe/Helsinki:20260210T190000
DTEND;TZID=Europe/Helsinki:20260210T200000
DTSTAMP:20260421T120711
CREATED:20260123T133411Z
LAST-MODIFIED:20260123T133411Z
UID:13110-1770750000-1770753600@ukinurheilukeskus.fi
SUMMARY:Miesten Kuntosalicircuit
DESCRIPTION:Jyri \n
URL:https://ukinurheilukeskus.fi/event/miesten-kuntosalicircuit-94/
END:VEVENT
END:VCALENDAR