BEGIN:VCALENDAR
VERSION:2.0
PRODID:-//Uudenkaupungin Urheilukeskus - ECPv4.6.21//NONSGML v1.0//EN
CALSCALE:GREGORIAN
METHOD:PUBLISH
X-WR-CALNAME:Uudenkaupungin Urheilukeskus
X-ORIGINAL-URL:https://ukinurheilukeskus.fi
X-WR-CALDESC:Events for Uudenkaupungin Urheilukeskus
BEGIN:VEVENT
DTSTART;TZID=Europe/Helsinki:20260120T190000
DTEND;TZID=Europe/Helsinki:20260120T200000
DTSTAMP:20260421T132525
CREATED:20260105T131731Z
LAST-MODIFIED:20260105T131731Z
UID:13035-1768935600-1768939200@ukinurheilukeskus.fi
SUMMARY:Miesten kuntosalicircuit
DESCRIPTION:Jyri \n
URL:https://ukinurheilukeskus.fi/event/miesten-kuntosalicircuit-91/
END:VEVENT
END:VCALENDAR