BEGIN:VCALENDAR
VERSION:2.0
PRODID:-//Uudenkaupungin Urheilukeskus - ECPv4.6.21//NONSGML v1.0//EN
CALSCALE:GREGORIAN
METHOD:PUBLISH
X-WR-CALNAME:Uudenkaupungin Urheilukeskus
X-ORIGINAL-URL:https://ukinurheilukeskus.fi
X-WR-CALDESC:Events for Uudenkaupungin Urheilukeskus
BEGIN:VEVENT
DTSTART;TZID=Europe/Helsinki:20251209T190000
DTEND;TZID=Europe/Helsinki:20251209T200000
DTSTAMP:20260421T150345
CREATED:20251124T114125Z
LAST-MODIFIED:20251124T114133Z
UID:12916-1765306800-1765310400@ukinurheilukeskus.fi
SUMMARY:Miesten Kuntosalicircuit
DESCRIPTION:Sijainen \n
URL:https://ukinurheilukeskus.fi/event/miesten-kuntosalicircuit-89/
END:VEVENT
END:VCALENDAR