BEGIN:VCALENDAR
VERSION:2.0
PRODID:-//Uudenkaupungin Urheilukeskus - ECPv4.6.21//NONSGML v1.0//EN
CALSCALE:GREGORIAN
METHOD:PUBLISH
X-WR-CALNAME:Uudenkaupungin Urheilukeskus
X-ORIGINAL-URL:https://ukinurheilukeskus.fi
X-WR-CALDESC:Events for Uudenkaupungin Urheilukeskus
BEGIN:VEVENT
DTSTART;TZID=Europe/Helsinki:20251216T190000
DTEND;TZID=Europe/Helsinki:20251216T200000
DTSTAMP:20260421T150522
CREATED:20251124T114052Z
LAST-MODIFIED:20251124T114056Z
UID:12914-1765911600-1765915200@ukinurheilukeskus.fi
SUMMARY:Miesten Kuntosalicircuit
DESCRIPTION:Jyri \n
URL:https://ukinurheilukeskus.fi/event/miesten-kuntosalicircuit-88/
END:VEVENT
END:VCALENDAR