BEGIN:VCALENDAR
VERSION:2.0
PRODID:-//Uudenkaupungin Urheilukeskus - ECPv4.6.21//NONSGML v1.0//EN
CALSCALE:GREGORIAN
METHOD:PUBLISH
X-WR-CALNAME:Uudenkaupungin Urheilukeskus
X-ORIGINAL-URL:https://ukinurheilukeskus.fi
X-WR-CALDESC:Events for Uudenkaupungin Urheilukeskus
BEGIN:VEVENT
DTSTART;TZID=Europe/Helsinki:20251125T190000
DTEND;TZID=Europe/Helsinki:20251125T200000
DTSTAMP:20260421T162114
CREATED:20251020T125957Z
LAST-MODIFIED:20251020T130008Z
UID:12834-1764097200-1764100800@ukinurheilukeskus.fi
SUMMARY:Miesten Kuntosalicircuit
DESCRIPTION:Jyri \n
URL:https://ukinurheilukeskus.fi/event/miesten-kuntosalicircuit-86/
END:VEVENT
END:VCALENDAR