BEGIN:VCALENDAR
VERSION:2.0
PRODID:-//Uudenkaupungin Urheilukeskus - ECPv4.6.21//NONSGML v1.0//EN
CALSCALE:GREGORIAN
METHOD:PUBLISH
X-WR-CALNAME:Uudenkaupungin Urheilukeskus
X-ORIGINAL-URL:https://ukinurheilukeskus.fi
X-WR-CALDESC:Events for Uudenkaupungin Urheilukeskus
BEGIN:VEVENT
DTSTART;TZID=Europe/Helsinki:20240206T190000
DTEND;TZID=Europe/Helsinki:20240206T200000
DTSTAMP:20260422T225903
CREATED:20240116T161017Z
LAST-MODIFIED:20240116T161017Z
UID:10598-1707246000-1707249600@ukinurheilukeskus.fi
SUMMARY:Miesten Kuntosalicircuit
DESCRIPTION:Jyri / Mia \n
URL:https://ukinurheilukeskus.fi/event/miesten-kuntosalicircuit-41/2024-02-06/
LOCATION:Mältintie 10\, Uusikaupunki\, 23500\, Suomi
END:VEVENT
END:VCALENDAR