BEGIN:VCALENDAR
VERSION:2.0
PRODID:-//Uudenkaupungin Urheilukeskus - ECPv4.6.21//NONSGML v1.0//EN
CALSCALE:GREGORIAN
METHOD:PUBLISH
X-WR-CALNAME:Uudenkaupungin Urheilukeskus
X-ORIGINAL-URL:https://ukinurheilukeskus.fi
X-WR-CALDESC:Events for Uudenkaupungin Urheilukeskus
BEGIN:VEVENT
DTSTART;TZID=Europe/Helsinki:20230926T190000
DTEND;TZID=Europe/Helsinki:20230926T200000
DTSTAMP:20260423T035506
CREATED:20230911T090829Z
LAST-MODIFIED:20230911T090836Z
UID:9929-1695754800-1695758400@ukinurheilukeskus.fi
SUMMARY:Miesten Kuntosalicircuit
DESCRIPTION:Mia \n
URL:https://ukinurheilukeskus.fi/event/miesten-kuntosalicircuit-26/
LOCATION:Mältintie 10\, Uusikaupunki\, 23500\, Suomi
END:VEVENT
END:VCALENDAR