BEGIN:VCALENDAR
VERSION:2.0
PRODID:-//Uudenkaupungin Urheilukeskus - ECPv4.6.21//NONSGML v1.0//EN
CALSCALE:GREGORIAN
METHOD:PUBLISH
X-WR-CALNAME:Uudenkaupungin Urheilukeskus
X-ORIGINAL-URL:https://ukinurheilukeskus.fi
X-WR-CALDESC:Events for Uudenkaupungin Urheilukeskus
BEGIN:VEVENT
DTSTART;TZID=Europe/Helsinki:20190108T191500
DTEND;TZID=Europe/Helsinki:20190108T201500
DTSTAMP:20260421T082023
CREATED:20181230T154139Z
LAST-MODIFIED:20190504T075535Z
UID:3980-1546974900-1546978500@ukinurheilukeskus.fi
SUMMARY:Miesten kuntosali circuit
DESCRIPTION:Ohjaajana Jussi Sjöblom \nTällä tunnilla tehdään kiertoharjoittelu periaatteella kuntosalilaitteita käyttäen lihaskuntoharjoitus. Ohjaaja opastaa ja rytmittää liikkeitä joko aikaa tai toistomäärällisesti. Tunti sopii kaikille kuntosaliharjoittelusta kiinnostuneille ja kehittää myös aerobista kuntoa hieman. Lopuksi tehdään pienet venytykset. \nHikipyyhe ja juomapullo mukaan tunnille. \n  \n
URL:https://ukinurheilukeskus.fi/event/miesten-kuntosali-circuit/2019-01-08/
LOCATION:Mältintie 10\, Uusikaupunki\, 23500\, Suomi
END:VEVENT
END:VCALENDAR