BEGIN:VCALENDAR
VERSION:2.0
PRODID:-//Uudenkaupungin Urheilukeskus - ECPv4.6.21//NONSGML v1.0//EN
CALSCALE:GREGORIAN
METHOD:PUBLISH
X-WR-CALNAME:Uudenkaupungin Urheilukeskus
X-ORIGINAL-URL:https://ukinurheilukeskus.fi
X-WR-CALDESC:Events for Uudenkaupungin Urheilukeskus
BEGIN:VEVENT
DTSTART;TZID=Europe/Helsinki:20250226T180000
DTEND;TZID=Europe/Helsinki:20250226T190000
DTSTAMP:20260422T035758
CREATED:20250131T145320Z
LAST-MODIFIED:20250225T135147Z
UID:11984-1740592800-1740596400@ukinurheilukeskus.fi
SUMMARY:Lihaskunto treeni
DESCRIPTION:Sijainen Jenni \n
URL:https://ukinurheilukeskus.fi/event/lihaskuntotreeni-3/
LOCATION:Mältintie 10\, Uusikaupunki\, 23500\, Suomi
END:VEVENT
END:VCALENDAR