BEGIN:VCALENDAR
VERSION:2.0
PRODID:-//Uudenkaupungin Urheilukeskus - ECPv4.6.21//NONSGML v1.0//EN
CALSCALE:GREGORIAN
METHOD:PUBLISH
X-WR-CALNAME:Uudenkaupungin Urheilukeskus
X-ORIGINAL-URL:https://ukinurheilukeskus.fi
X-WR-CALDESC:Events for Uudenkaupungin Urheilukeskus
BEGIN:VEVENT
DTSTART;TZID=Europe/Helsinki:20260115T180000
DTEND;TZID=Europe/Helsinki:20260115T190000
DTSTAMP:20260421T132049
CREATED:20251222T153540Z
LAST-MODIFIED:20251222T153544Z
UID:13007-1768500000-1768503600@ukinurheilukeskus.fi
SUMMARY:Lihaskuntotreeni
DESCRIPTION:Mia \n
URL:https://ukinurheilukeskus.fi/event/lihaskuntotreeni-16/
END:VEVENT
END:VCALENDAR