BEGIN:VCALENDAR
VERSION:2.0
PRODID:-//Uudenkaupungin Urheilukeskus - ECPv4.6.21//NONSGML v1.0//EN
CALSCALE:GREGORIAN
METHOD:PUBLISH
X-WR-CALNAME:Uudenkaupungin Urheilukeskus
X-ORIGINAL-URL:https://ukinurheilukeskus.fi
X-WR-CALDESC:Events for Uudenkaupungin Urheilukeskus
BEGIN:VEVENT
DTSTART;TZID=Europe/Helsinki:20251230T180000
DTEND;TZID=Europe/Helsinki:20251230T190000
DTSTAMP:20260421T132023
CREATED:20251203T143601Z
LAST-MODIFIED:20251203T143606Z
UID:12963-1767117600-1767121200@ukinurheilukeskus.fi
SUMMARY:Lihaskuntotreeni
DESCRIPTION:Mia \n
URL:https://ukinurheilukeskus.fi/event/lihaskuntotreeni-14/
END:VEVENT
END:VCALENDAR