BEGIN:VCALENDAR
VERSION:2.0
PRODID:-//Uudenkaupungin Urheilukeskus - ECPv4.6.21//NONSGML v1.0//EN
CALSCALE:GREGORIAN
METHOD:PUBLISH
X-WR-CALNAME:Uudenkaupungin Urheilukeskus
X-ORIGINAL-URL:https://ukinurheilukeskus.fi
X-WR-CALDESC:Events for Uudenkaupungin Urheilukeskus
BEGIN:VEVENT
DTSTART;TZID=Europe/Helsinki:20251218T180000
DTEND;TZID=Europe/Helsinki:20251218T190000
DTSTAMP:20260421T144557
CREATED:20251124T124536Z
LAST-MODIFIED:20251124T124539Z
UID:12950-1766080800-1766084400@ukinurheilukeskus.fi
SUMMARY:Lihaskuntotreeni
DESCRIPTION:Mia \n
URL:https://ukinurheilukeskus.fi/event/lihaskuntotreeni-13/
END:VEVENT
END:VCALENDAR