BEGIN:VCALENDAR
VERSION:2.0
PRODID:-//Uudenkaupungin Urheilukeskus - ECPv4.6.21//NONSGML v1.0//EN
CALSCALE:GREGORIAN
METHOD:PUBLISH
X-WR-CALNAME:Uudenkaupungin Urheilukeskus
X-ORIGINAL-URL:https://ukinurheilukeskus.fi
X-WR-CALDESC:Events for Uudenkaupungin Urheilukeskus
BEGIN:VEVENT
DTSTART;TZID=Europe/Helsinki:20240522T173000
DTEND;TZID=Europe/Helsinki:20240522T183000
DTSTAMP:20260422T185606
CREATED:20240423T085008Z
LAST-MODIFIED:20240423T085020Z
UID:10893-1716399000-1716402600@ukinurheilukeskus.fi
SUMMARY:Lihaskunto treeni CIRCUIT kiertoharjoittelu
DESCRIPTION:Mia \n
URL:https://ukinurheilukeskus.fi/event/lihaskunto-treeni-circuit-kiertoharjoittelu-2/2024-05-22/
LOCATION:Mältintie 10\, Uusikaupunki\, 23500\, Suomi
END:VEVENT
END:VCALENDAR