BEGIN:VCALENDAR
VERSION:2.0
PRODID:-//Uudenkaupungin Urheilukeskus - ECPv4.6.21//NONSGML v1.0//EN
CALSCALE:GREGORIAN
METHOD:PUBLISH
X-WR-CALNAME:Uudenkaupungin Urheilukeskus
X-ORIGINAL-URL:https://ukinurheilukeskus.fi
X-WR-CALDESC:Events for Uudenkaupungin Urheilukeskus
BEGIN:VEVENT
DTSTART;TZID=Europe/Helsinki:20260219T180000
DTEND;TZID=Europe/Helsinki:20260219T190000
DTSTAMP:20260421T120615
CREATED:20260123T134045Z
LAST-MODIFIED:20260123T134045Z
UID:13132-1771524000-1771527600@ukinurheilukeskus.fi
SUMMARY:Lihaskunto treeni
DESCRIPTION:Mia \n
URL:https://ukinurheilukeskus.fi/event/lihaskunto-treeni-69/
END:VEVENT
END:VCALENDAR