BEGIN:VCALENDAR
VERSION:2.0
PRODID:-//Uudenkaupungin Urheilukeskus - ECPv4.6.21//NONSGML v1.0//EN
CALSCALE:GREGORIAN
METHOD:PUBLISH
X-WR-CALNAME:Uudenkaupungin Urheilukeskus
X-ORIGINAL-URL:https://ukinurheilukeskus.fi
X-WR-CALDESC:Events for Uudenkaupungin Urheilukeskus
BEGIN:VEVENT
DTSTART;TZID=Europe/Helsinki:20260122T180000
DTEND;TZID=Europe/Helsinki:20260122T190000
DTSTAMP:20260421T132334
CREATED:20260105T131917Z
LAST-MODIFIED:20260105T131917Z
UID:13043-1769104800-1769108400@ukinurheilukeskus.fi
SUMMARY:Lihaskunto treeni
DESCRIPTION:Mia \n
URL:https://ukinurheilukeskus.fi/event/lihaskunto-treeni-65/
END:VEVENT
END:VCALENDAR