BEGIN:VCALENDAR
VERSION:2.0
PRODID:-//Uudenkaupungin Urheilukeskus - ECPv4.6.21//NONSGML v1.0//EN
CALSCALE:GREGORIAN
METHOD:PUBLISH
X-WR-CALNAME:Uudenkaupungin Urheilukeskus
X-ORIGINAL-URL:https://ukinurheilukeskus.fi
X-WR-CALDESC:Events for Uudenkaupungin Urheilukeskus
BEGIN:VEVENT
DTSTART;TZID=Europe/Helsinki:20251030T180000
DTEND;TZID=Europe/Helsinki:20251030T190000
DTSTAMP:20260421T161915
CREATED:20250926T123436Z
LAST-MODIFIED:20250926T123439Z
UID:12697-1761847200-1761850800@ukinurheilukeskus.fi
SUMMARY:Lihaskunto treeni
DESCRIPTION:Mia \n
URL:https://ukinurheilukeskus.fi/event/lihaskunto-treeni-64/
END:VEVENT
END:VCALENDAR