BEGIN:VCALENDAR
VERSION:2.0
PRODID:-//Uudenkaupungin Urheilukeskus - ECPv4.6.21//NONSGML v1.0//EN
CALSCALE:GREGORIAN
METHOD:PUBLISH
X-WR-CALNAME:Uudenkaupungin Urheilukeskus
X-ORIGINAL-URL:https://ukinurheilukeskus.fi
X-WR-CALDESC:Events for Uudenkaupungin Urheilukeskus
BEGIN:VEVENT
DTSTART;TZID=Europe/Helsinki:20250821T180000
DTEND;TZID=Europe/Helsinki:20250821T190000
DTSTAMP:20260421T202653
CREATED:20250723T112440Z
LAST-MODIFIED:20250806T123505Z
UID:12499-1755799200-1755802800@ukinurheilukeskus.fi
SUMMARY:Lihaskunto treeni
DESCRIPTION:Mia \n
URL:https://ukinurheilukeskus.fi/event/lihaskunto-treeni-55/
END:VEVENT
END:VCALENDAR