BEGIN:VCALENDAR
VERSION:2.0
PRODID:-//Uudenkaupungin Urheilukeskus - ECPv4.6.21//NONSGML v1.0//EN
CALSCALE:GREGORIAN
METHOD:PUBLISH
X-WR-CALNAME:Uudenkaupungin Urheilukeskus
X-ORIGINAL-URL:https://ukinurheilukeskus.fi
X-WR-CALDESC:Events for Uudenkaupungin Urheilukeskus
BEGIN:VEVENT
DTSTART;TZID=Europe/Helsinki:20250723T190000
DTEND;TZID=Europe/Helsinki:20250723T200000
DTSTAMP:20260419T173658
CREATED:20250617T125734Z
LAST-MODIFIED:20250702T140124Z
UID:12442-1753297200-1753300800@ukinurheilukeskus.fi
SUMMARY:Lihaskunto Treeni\, HUOM AIKA!
DESCRIPTION:Mia \n
URL:https://ukinurheilukeskus.fi/event/lihaskunto-treeni-52/
LOCATION:Mältintie 10\, Uusikaupunki\, 23500\, Suomi
END:VEVENT
END:VCALENDAR