BEGIN:VCALENDAR
VERSION:2.0
PRODID:-//Uudenkaupungin Urheilukeskus - ECPv4.6.21//NONSGML v1.0//EN
CALSCALE:GREGORIAN
METHOD:PUBLISH
X-WR-CALNAME:Uudenkaupungin Urheilukeskus
X-ORIGINAL-URL:https://ukinurheilukeskus.fi
X-WR-CALDESC:Events for Uudenkaupungin Urheilukeskus
BEGIN:VEVENT
DTSTART;TZID=Europe/Helsinki:20250305T180000
DTEND;TZID=Europe/Helsinki:20250305T190000
DTSTAMP:20260422T035818
CREATED:20250217T140952Z
LAST-MODIFIED:20250217T140956Z
UID:12013-1741197600-1741201200@ukinurheilukeskus.fi
SUMMARY:Lihaskunto treeni
DESCRIPTION:Mia \n
URL:https://ukinurheilukeskus.fi/event/lihaskunto-treeni-33/
LOCATION:Mältintie 10\, Uusikaupunki\, 23500\, Suomi
END:VEVENT
END:VCALENDAR