BEGIN:VCALENDAR
VERSION:2.0
PRODID:-//Uudenkaupungin Urheilukeskus - ECPv4.6.21//NONSGML v1.0//EN
CALSCALE:GREGORIAN
METHOD:PUBLISH
X-WR-CALNAME:Uudenkaupungin Urheilukeskus
X-ORIGINAL-URL:https://ukinurheilukeskus.fi
X-WR-CALDESC:Events for Uudenkaupungin Urheilukeskus
BEGIN:VEVENT
DTSTART;TZID=Europe/Helsinki:20240925T180000
DTEND;TZID=Europe/Helsinki:20240925T190000
DTSTAMP:20260422T133017
CREATED:20240822T150020Z
LAST-MODIFIED:20240822T150025Z
UID:11268-1727287200-1727290800@ukinurheilukeskus.fi
SUMMARY:Lihaskunto Treeni
DESCRIPTION:Mia \n
URL:https://ukinurheilukeskus.fi/event/lihaskunto-treeni-13/
LOCATION:Mältintie 10\, Uusikaupunki\, 23500\, Suomi
END:VEVENT
END:VCALENDAR