BEGIN:VCALENDAR
VERSION:2.0
PRODID:-//Uudenkaupungin Urheilukeskus - ECPv4.6.21//NONSGML v1.0//EN
CALSCALE:GREGORIAN
METHOD:PUBLISH
X-WR-CALNAME:Uudenkaupungin Urheilukeskus
X-ORIGINAL-URL:https://ukinurheilukeskus.fi
X-WR-CALDESC:Events for Uudenkaupungin Urheilukeskus
BEGIN:VEVENT
DTSTART;TZID=Europe/Helsinki:20240923T173000
DTEND;TZID=Europe/Helsinki:20240923T183000
DTSTAMP:20260422T131401
CREATED:20240822T145541Z
LAST-MODIFIED:20240822T145857Z
UID:11260-1727112600-1727116200@ukinurheilukeskus.fi
SUMMARY:Lihaskunto Circuit
DESCRIPTION:Mia \n
URL:https://ukinurheilukeskus.fi/event/lihaskunto-circuit-4/
LOCATION:Mältintie 10\, Uusikaupunki\, 23500\, Suomi
END:VEVENT
END:VCALENDAR