BEGIN:VCALENDAR
VERSION:2.0
PRODID:-//Uudenkaupungin Urheilukeskus - ECPv4.6.21//NONSGML v1.0//EN
CALSCALE:GREGORIAN
METHOD:PUBLISH
X-WR-CALNAME:Uudenkaupungin Urheilukeskus
X-ORIGINAL-URL:https://ukinurheilukeskus.fi
X-WR-CALDESC:Events for Uudenkaupungin Urheilukeskus
BEGIN:VEVENT
DTSTART;TZID=Europe/Helsinki:20241111T173000
DTEND;TZID=Europe/Helsinki:20241111T183000
DTSTAMP:20260424T094215
CREATED:20241028T131934Z
LAST-MODIFIED:20241028T131937Z
UID:11472-1731346200-1731349800@ukinurheilukeskus.fi
SUMMARY:Lihaskunto-circuit
DESCRIPTION:Mia \n
URL:https://ukinurheilukeskus.fi/event/lihaskunto-circuit-12/
LOCATION:Mältintie 10\, Uusikaupunki\, 23500\, Suomi
END:VEVENT
END:VCALENDAR