BEGIN:VCALENDAR
VERSION:2.0
PRODID:-//Uudenkaupungin Urheilukeskus - ECPv4.6.21//NONSGML v1.0//EN
CALSCALE:GREGORIAN
METHOD:PUBLISH
X-WR-CALNAME:Uudenkaupungin Urheilukeskus
X-ORIGINAL-URL:https://ukinurheilukeskus.fi
X-WR-CALDESC:Events for Uudenkaupungin Urheilukeskus
BEGIN:VEVENT
DTSTART;TZID=Europe/Helsinki:20190102T190000
DTEND;TZID=Europe/Helsinki:20190102T200000
DTSTAMP:20260419T121432
CREATED:20181230T154548Z
LAST-MODIFIED:20190430T100159Z
UID:4000-1546455600-1546459200@ukinurheilukeskus.fi
SUMMARY:LesMills Bodypump™
DESCRIPTION:Ohjaajana Jenni Patama \nBODYPUMP® on musiikin tahtiin tehtävää voimakestävyys-harjoittelua\, joka on haastavaa ja vahvistaa kehoa.\nTunti sopii sekä naisille että miehille. Tunnilla harjoitetaan monipuolisesti koko kehoa mukaansa tempaavan musiikin tahdissa.\nVälineinä käytetään tankoja\, levypainoja sekä käsipainoja. Tuntien koreografiat vaihtuvat 3kk välein.\nBODYPUMP®in yksinkertaisuus tekee aloituksen helpoksi ja sen tehokkuus auttaa näkemään tuloksia nopeasti. \n
URL:https://ukinurheilukeskus.fi/event/lesmills-bodypump-2/2019-01-02/
LOCATION:Mältintie 10\, Uusikaupunki\, 23500\, Suomi
END:VEVENT
END:VCALENDAR