BEGIN:VCALENDAR
VERSION:2.0
PRODID:-//Uudenkaupungin Urheilukeskus - ECPv4.6.21//NONSGML v1.0//EN
CALSCALE:GREGORIAN
METHOD:PUBLISH
X-WR-CALNAME:Uudenkaupungin Urheilukeskus
X-ORIGINAL-URL:https://ukinurheilukeskus.fi
X-WR-CALDESC:Events for Uudenkaupungin Urheilukeskus
BEGIN:VEVENT
DTSTART;TZID=Europe/Helsinki:20231208T103000
DTEND;TZID=Europe/Helsinki:20231208T113000
DTSTAMP:20260423T012243
CREATED:20231124T104008Z
LAST-MODIFIED:20231124T104017Z
UID:10284-1702031400-1702035000@ukinurheilukeskus.fi
SUMMARY:Kuntosalicircuit seniorit
DESCRIPTION:Mia \n
URL:https://ukinurheilukeskus.fi/event/kuntosalicircuit-seniorit-9/
LOCATION:Mältintie 10\, Uusikaupunki\, 23500\, Suomi
END:VEVENT
END:VCALENDAR