BEGIN:VCALENDAR
VERSION:2.0
PRODID:-//Uudenkaupungin Urheilukeskus - ECPv4.6.21//NONSGML v1.0//EN
CALSCALE:GREGORIAN
METHOD:PUBLISH
X-WR-CALNAME:Uudenkaupungin Urheilukeskus
X-ORIGINAL-URL:https://ukinurheilukeskus.fi
X-WR-CALDESC:Events for Uudenkaupungin Urheilukeskus
BEGIN:VEVENT
DTSTART;TZID=Europe/Helsinki:20260213T103000
DTEND;TZID=Europe/Helsinki:20260213T113000
DTSTAMP:20260421T120525
CREATED:20260123T140716Z
LAST-MODIFIED:20260123T140716Z
UID:13139-1770978600-1770982200@ukinurheilukeskus.fi
SUMMARY:Kuntosalicircuit senioreille
DESCRIPTION:Mia \n
URL:https://ukinurheilukeskus.fi/event/kuntosalicircuit-senioreille-55/
END:VEVENT
END:VCALENDAR