BEGIN:VCALENDAR
VERSION:2.0
PRODID:-//Uudenkaupungin Urheilukeskus - ECPv4.6.21//NONSGML v1.0//EN
CALSCALE:GREGORIAN
METHOD:PUBLISH
X-WR-CALNAME:Uudenkaupungin Urheilukeskus
X-ORIGINAL-URL:https://ukinurheilukeskus.fi
X-WR-CALDESC:Events for Uudenkaupungin Urheilukeskus
BEGIN:VEVENT
DTSTART;TZID=Europe/Helsinki:20251205T103000
DTEND;TZID=Europe/Helsinki:20251205T113000
DTSTAMP:20260421T150412
CREATED:20251124T113336Z
LAST-MODIFIED:20251124T113336Z
UID:12901-1764930600-1764934200@ukinurheilukeskus.fi
SUMMARY:Kuntosalicircuit senioreille
DESCRIPTION:Mia \n
URL:https://ukinurheilukeskus.fi/event/kuntosalicircuit-senioreille-47/
END:VEVENT
END:VCALENDAR