BEGIN:VCALENDAR
VERSION:2.0
PRODID:-//Uudenkaupungin Urheilukeskus - ECPv4.6.21//NONSGML v1.0//EN
CALSCALE:GREGORIAN
METHOD:PUBLISH
X-WR-CALNAME:Uudenkaupungin Urheilukeskus
X-ORIGINAL-URL:https://ukinurheilukeskus.fi
X-WR-CALDESC:Events for Uudenkaupungin Urheilukeskus
BEGIN:VEVENT
DTSTART;TZID=Europe/Helsinki:20250321T103000
DTEND;TZID=Europe/Helsinki:20250321T113000
DTSTAMP:20260422T053714
CREATED:20250217T141424Z
LAST-MODIFIED:20250217T141427Z
UID:12031-1742553000-1742556600@ukinurheilukeskus.fi
SUMMARY:Kuntosalicircuit senioreille
DESCRIPTION:Mia \n
URL:https://ukinurheilukeskus.fi/event/kuntosalicircuit-senioreille-30/
LOCATION:Mältintie 10\, Uusikaupunki\, 23500\, Suomi
END:VEVENT
END:VCALENDAR