BEGIN:VCALENDAR
VERSION:2.0
PRODID:-//Uudenkaupungin Urheilukeskus - ECPv4.6.21//NONSGML v1.0//EN
CALSCALE:GREGORIAN
METHOD:PUBLISH
X-WR-CALNAME:Uudenkaupungin Urheilukeskus
X-ORIGINAL-URL:https://ukinurheilukeskus.fi
X-WR-CALDESC:Events for Uudenkaupungin Urheilukeskus
BEGIN:VEVENT
DTSTART;TZID=Europe/Helsinki:20241108T103000
DTEND;TZID=Europe/Helsinki:20241108T113000
DTSTAMP:20260422T101929
CREATED:20241028T131625Z
LAST-MODIFIED:20241028T131625Z
UID:11457-1731061800-1731065400@ukinurheilukeskus.fi
SUMMARY:Kuntosalicircuit senioreille
DESCRIPTION:Mia \n
URL:https://ukinurheilukeskus.fi/event/kuntosalicircuit-senioreille-15/
LOCATION:Mältintie 10\, Uusikaupunki\, 23500\, Suomi
END:VEVENT
END:VCALENDAR