BEGIN:VCALENDAR
VERSION:2.0
PRODID:-//Uudenkaupungin Urheilukeskus - ECPv4.6.21//NONSGML v1.0//EN
CALSCALE:GREGORIAN
METHOD:PUBLISH
X-WR-CALNAME:Uudenkaupungin Urheilukeskus
X-ORIGINAL-URL:https://ukinurheilukeskus.fi
X-WR-CALDESC:Events for Uudenkaupungin Urheilukeskus
BEGIN:VEVENT
DTSTART;TZID=Europe/Helsinki:20241018T103000
DTEND;TZID=Europe/Helsinki:20241018T113000
DTSTAMP:20260422T115644
CREATED:20240919T160518Z
LAST-MODIFIED:20240919T160523Z
UID:11355-1729247400-1729251000@ukinurheilukeskus.fi
SUMMARY:Kuntosali Circuit Senioreille
DESCRIPTION:Mia \n
URL:https://ukinurheilukeskus.fi/event/kuntosali-circuit-senioreille-2/
LOCATION:Mältintie 10\, Uusikaupunki\, 23500\, Suomi
END:VEVENT
END:VCALENDAR