BEGIN:VCALENDAR
VERSION:2.0
PRODID:-//Uudenkaupungin Urheilukeskus - ECPv4.6.21//NONSGML v1.0//EN
CALSCALE:GREGORIAN
METHOD:PUBLISH
X-WR-CALNAME:Uudenkaupungin Urheilukeskus
X-ORIGINAL-URL:https://ukinurheilukeskus.fi
X-WR-CALDESC:Events for Uudenkaupungin Urheilukeskus
BEGIN:VEVENT
DTSTART;TZID=Europe/Helsinki:20221014T171500
DTEND;TZID=Europe/Helsinki:20221014T181500
DTSTAMP:20260419T132305
CREATED:20220926T131413Z
LAST-MODIFIED:20220926T131419Z
UID:8663-1665767700-1665771300@ukinurheilukeskus.fi
SUMMARY:Jooga\, teemana Rangan Virkistys
DESCRIPTION:Ohjaaja Noora \n
URL:https://ukinurheilukeskus.fi/event/jooga-teemana-rangan-virkistys/2022-10-14/
LOCATION:Mältintie 10\, Uusikaupunki\, 23500\, Suomi
END:VEVENT
END:VCALENDAR