BEGIN:VCALENDAR
VERSION:2.0
PRODID:-//Uudenkaupungin Urheilukeskus - ECPv4.6.21//NONSGML v1.0//EN
CALSCALE:GREGORIAN
METHOD:PUBLISH
X-WR-CALNAME:Uudenkaupungin Urheilukeskus
X-ORIGINAL-URL:https://ukinurheilukeskus.fi
X-WR-CALDESC:Events for Uudenkaupungin Urheilukeskus
BEGIN:VEVENT
DTSTART;TZID=Europe/Helsinki:20260116T170000
DTEND;TZID=Europe/Helsinki:20260116T180000
DTSTAMP:20260421T132519
CREATED:20251222T153721Z
LAST-MODIFIED:20251222T154158Z
UID:13011-1768582800-1768586400@ukinurheilukeskus.fi
SUMMARY:Ikämiesten kuntosaliryhmä
DESCRIPTION:Jone \n
URL:https://ukinurheilukeskus.fi/event/ikamiesten-kuntosaliryhma-52/
END:VEVENT
END:VCALENDAR