BEGIN:VCALENDAR
VERSION:2.0
PRODID:-//Uudenkaupungin Urheilukeskus - ECPv4.6.21//NONSGML v1.0//EN
CALSCALE:GREGORIAN
METHOD:PUBLISH
X-WR-CALNAME:Uudenkaupungin Urheilukeskus
X-ORIGINAL-URL:https://ukinurheilukeskus.fi
X-WR-CALDESC:Events for Uudenkaupungin Urheilukeskus
BEGIN:VEVENT
DTSTART;TZID=Europe/Helsinki:20251205T170000
DTEND;TZID=Europe/Helsinki:20251205T180000
DTSTAMP:20260421T150447
CREATED:20251124T113550Z
LAST-MODIFIED:20251124T113555Z
UID:12908-1764954000-1764957600@ukinurheilukeskus.fi
SUMMARY:Ikämiesten kuntosaliryhmä
DESCRIPTION:Jone \n
URL:https://ukinurheilukeskus.fi/event/ikamiesten-kuntosaliryhma-49/
END:VEVENT
END:VCALENDAR