BEGIN:VCALENDAR
VERSION:2.0
PRODID:-//Uudenkaupungin Urheilukeskus - ECPv4.6.21//NONSGML v1.0//EN
CALSCALE:GREGORIAN
METHOD:PUBLISH
X-WR-CALNAME:Uudenkaupungin Urheilukeskus
X-ORIGINAL-URL:https://ukinurheilukeskus.fi
X-WR-CALDESC:Events for Uudenkaupungin Urheilukeskus
BEGIN:VEVENT
DTSTART;TZID=Europe/Helsinki:20241101T170000
DTEND;TZID=Europe/Helsinki:20241101T180000
DTSTAMP:20260421T121734
CREATED:20241028T131744Z
LAST-MODIFIED:20241028T131752Z
UID:11463-1730480400-1730484000@ukinurheilukeskus.fi
SUMMARY:Ikämiesten Kuntosaliryhmä
DESCRIPTION:Jone \n
URL:https://ukinurheilukeskus.fi/event/ikamiesten-kuntosaliryhma-29/
LOCATION:Mältintie 10\, Uusikaupunki\, 23500\, Suomi
END:VEVENT
END:VCALENDAR