BEGIN:VCALENDAR
VERSION:2.0
PRODID:-//Uudenkaupungin Urheilukeskus - ECPv4.6.21//NONSGML v1.0//EN
CALSCALE:GREGORIAN
METHOD:PUBLISH
X-WR-CALNAME:Uudenkaupungin Urheilukeskus
X-ORIGINAL-URL:https://ukinurheilukeskus.fi
X-WR-CALDESC:Events for Uudenkaupungin Urheilukeskus
BEGIN:VEVENT
DTSTART;TZID=Europe/Helsinki:20241025T170000
DTEND;TZID=Europe/Helsinki:20241025T180000
DTSTAMP:20260424T094513
CREATED:20240919T162817Z
LAST-MODIFIED:20240919T162822Z
UID:11388-1729875600-1729879200@ukinurheilukeskus.fi
SUMMARY:Ikämiesten Kuntosaliryhmä
DESCRIPTION:Jone \n
URL:https://ukinurheilukeskus.fi/event/ikamiesten-kuntosaliryhma-28/
LOCATION:Mältintie 10\, Uusikaupunki\, 23500\, Suomi
END:VEVENT
END:VCALENDAR