BEGIN:VCALENDAR
VERSION:2.0
PRODID:-//Uudenkaupungin Urheilukeskus - ECPv4.6.21//NONSGML v1.0//EN
CALSCALE:GREGORIAN
METHOD:PUBLISH
X-WR-CALNAME:Uudenkaupungin Urheilukeskus
X-ORIGINAL-URL:https://ukinurheilukeskus.fi
X-WR-CALDESC:Events for Uudenkaupungin Urheilukeskus
BEGIN:VEVENT
DTSTART;TZID=Europe/Helsinki:20231215T170000
DTEND;TZID=Europe/Helsinki:20231215T180000
DTSTAMP:20260423T012516
CREATED:20231203T141646Z
LAST-MODIFIED:20231203T142930Z
UID:10310-1702659600-1702663200@ukinurheilukeskus.fi
SUMMARY:Ikämiesten kuntosaliryhmä
DESCRIPTION:Jone \n
URL:https://ukinurheilukeskus.fi/event/ikamiesten-kuntosaliryhma-16/
LOCATION:Mältintie 10\, Uusikaupunki\, 23500\, Suomi
END:VEVENT
END:VCALENDAR