BEGIN:VCALENDAR
VERSION:2.0
PRODID:-//Uudenkaupungin Urheilukeskus - ECPv4.6.21//NONSGML v1.0//EN
CALSCALE:GREGORIAN
METHOD:PUBLISH
X-WR-CALNAME:Uudenkaupungin Urheilukeskus
X-ORIGINAL-URL:https://ukinurheilukeskus.fi
X-WR-CALDESC:Events for Uudenkaupungin Urheilukeskus
BEGIN:VEVENT
DTSTART;TZID=Europe/Helsinki:20230428T170000
DTEND;TZID=Europe/Helsinki:20230428T180000
DTSTAMP:20260420T132135
CREATED:20230331T144101Z
LAST-MODIFIED:20230331T144559Z
UID:9467-1682701200-1682704800@ukinurheilukeskus.fi
SUMMARY:Ikämiesten kuntosaliryhmä
DESCRIPTION:Ohjaaja Jone \n
URL:https://ukinurheilukeskus.fi/event/ikamiesten-kuntosaliryhma-11-2023-04-28/
LOCATION:Mältintie 10\, Uusikaupunki\, 23500\, Suomi
END:VEVENT
END:VCALENDAR