BEGIN:VCALENDAR
VERSION:2.0
PRODID:-//Uudenkaupungin Urheilukeskus - ECPv4.6.21//NONSGML v1.0//EN
CALSCALE:GREGORIAN
METHOD:PUBLISH
X-WR-CALNAME:Uudenkaupungin Urheilukeskus
X-ORIGINAL-URL:https://ukinurheilukeskus.fi
X-WR-CALDESC:Events for Uudenkaupungin Urheilukeskus
BEGIN:VEVENT
DTSTART;TZID=Europe/Helsinki:20231020T170000
DTEND;TZID=Europe/Helsinki:20231020T180000
DTSTAMP:20260423T035501
CREATED:20231003T141138Z
LAST-MODIFIED:20231003T141143Z
UID:10072-1697821200-1697824800@ukinurheilukeskus.fi
SUMMARY:ikämiesten kuntosali
DESCRIPTION:Jone \n
URL:https://ukinurheilukeskus.fi/event/ikamiesten-kuntosali-7/
LOCATION:Mältintie 10\, Uusikaupunki\, 23500\, Suomi
END:VEVENT
END:VCALENDAR