BEGIN:VCALENDAR
VERSION:2.0
PRODID:-//Uudenkaupungin Urheilukeskus - ECPv4.6.21//NONSGML v1.0//EN
CALSCALE:GREGORIAN
METHOD:PUBLISH
X-WR-CALNAME:Uudenkaupungin Urheilukeskus
X-ORIGINAL-URL:https://ukinurheilukeskus.fi
X-WR-CALDESC:Events for Uudenkaupungin Urheilukeskus
BEGIN:VEVENT
DTSTART;TZID=Europe/Helsinki:20250305T183000
DTEND;TZID=Europe/Helsinki:20250305T193000
DTSTAMP:20260422T035829
CREATED:20250217T141047Z
LAST-MODIFIED:20250217T141047Z
UID:12016-1741199400-1741203000@ukinurheilukeskus.fi
SUMMARY:IISI Spinning + vatsat
DESCRIPTION:Johanna \n
URL:https://ukinurheilukeskus.fi/event/iisi-spinning-vatsat-7/
LOCATION:Mältintie 10\, Uusikaupunki\, 23500\, Suomi
END:VEVENT
END:VCALENDAR