BEGIN:VCALENDAR
VERSION:2.0
PRODID:-//Uudenkaupungin Urheilukeskus - ECPv4.6.21//NONSGML v1.0//EN
CALSCALE:GREGORIAN
METHOD:PUBLISH
X-WR-CALNAME:Uudenkaupungin Urheilukeskus
X-ORIGINAL-URL:https://ukinurheilukeskus.fi
X-WR-CALDESC:Events for Uudenkaupungin Urheilukeskus
BEGIN:VEVENT
DTSTART;TZID=Europe/Helsinki:20240904T183000
DTEND;TZID=Europe/Helsinki:20240904T193000
DTSTAMP:20260422T144051
CREATED:20240820T144107Z
LAST-MODIFIED:20240820T144125Z
UID:11196-1725474600-1725478200@ukinurheilukeskus.fi
SUMMARY:IISI-Spinning 45 + vatsat
DESCRIPTION:Niina \n
URL:https://ukinurheilukeskus.fi/event/iisi-spinning-45-vatsat-8/
LOCATION:Mältintie 10\, Uusikaupunki\, 23500\, Suomi
END:VEVENT
END:VCALENDAR