BEGIN:VCALENDAR
VERSION:2.0
PRODID:-//Uudenkaupungin Urheilukeskus - ECPv4.6.21//NONSGML v1.0//EN
CALSCALE:GREGORIAN
METHOD:PUBLISH
X-WR-CALNAME:Uudenkaupungin Urheilukeskus
X-ORIGINAL-URL:https://ukinurheilukeskus.fi
X-WR-CALDESC:Events for Uudenkaupungin Urheilukeskus
BEGIN:VEVENT
DTSTART;TZID=Europe/Helsinki:20240306T184000
DTEND;TZID=Europe/Helsinki:20240306T194000
DTSTAMP:20260422T225657
CREATED:20240216T152931Z
LAST-MODIFIED:20240306T102241Z
UID:10716-1709750400-1709754000@ukinurheilukeskus.fi
SUMMARY:IISI Spinning 45 + vatsat UUSI OHJELMA!
DESCRIPTION:Mia \n
URL:https://ukinurheilukeskus.fi/event/iisi-spinning-45-vatsat-5/
LOCATION:Mältintie 10\, Uusikaupunki\, 23500\, Suomi
END:VEVENT
END:VCALENDAR