BEGIN:VCALENDAR
VERSION:2.0
PRODID:-//Uudenkaupungin Urheilukeskus - ECPv4.6.21//NONSGML v1.0//EN
CALSCALE:GREGORIAN
METHOD:PUBLISH
X-WR-CALNAME:Uudenkaupungin Urheilukeskus
X-ORIGINAL-URL:https://ukinurheilukeskus.fi
X-WR-CALDESC:Events for Uudenkaupungin Urheilukeskus
BEGIN:VEVENT
DTSTART;TZID=Europe/Helsinki:20240313T184000
DTEND;TZID=Europe/Helsinki:20240313T194000
DTSTAMP:20260422T213526
CREATED:20240216T152931Z
LAST-MODIFIED:20240306T102217Z
UID:10719-1710355200-1710358800@ukinurheilukeskus.fi
SUMMARY:IISI Spinning 45 + vatsat
DESCRIPTION:Mia \n
URL:https://ukinurheilukeskus.fi/event/iisi-spinning-45-vatsat-5-2024-03-13/2024-03-13/
LOCATION:Mältintie 10\, Uusikaupunki\, 23500\, Suomi
END:VEVENT
END:VCALENDAR