BEGIN:VCALENDAR
VERSION:2.0
PRODID:-//Uudenkaupungin Urheilukeskus - ECPv4.6.21//NONSGML v1.0//EN
CALSCALE:GREGORIAN
METHOD:PUBLISH
X-WR-CALNAME:Uudenkaupungin Urheilukeskus
X-ORIGINAL-URL:https://ukinurheilukeskus.fi
X-WR-CALDESC:Events for Uudenkaupungin Urheilukeskus
BEGIN:VEVENT
DTSTART;TZID=Europe/Helsinki:20240124T184000
DTEND;TZID=Europe/Helsinki:20240124T194000
DTSTAMP:20260423T002124
CREATED:20240105T152149Z
LAST-MODIFIED:20240105T152149Z
UID:10475-1706121600-1706125200@ukinurheilukeskus.fi
SUMMARY:IISI Spinning 45 + vatsat
DESCRIPTION:Mia \n
URL:https://ukinurheilukeskus.fi/event/iisi-spinning-45-vatsat-2/
LOCATION:Mältintie 10\, Uusikaupunki\, 23500\, Suomi
END:VEVENT
END:VCALENDAR