BEGIN:VCALENDAR
VERSION:2.0
PRODID:-//Uudenkaupungin Urheilukeskus - ECPv4.6.21//NONSGML v1.0//EN
CALSCALE:GREGORIAN
METHOD:PUBLISH
X-WR-CALNAME:Uudenkaupungin Urheilukeskus
X-ORIGINAL-URL:https://ukinurheilukeskus.fi
X-WR-CALDESC:Events for Uudenkaupungin Urheilukeskus
BEGIN:VEVENT
DTSTART;TZID=Europe/Helsinki:20250319T183000
DTEND;TZID=Europe/Helsinki:20250319T193000
DTSTAMP:20260422T035929
CREATED:20250302T161039Z
LAST-MODIFIED:20250302T161044Z
UID:12094-1742409000-1742412600@ukinurheilukeskus.fi
SUMMARY:IISI spinning 45 + vatsat
DESCRIPTION:Sijainen Jenni \n
URL:https://ukinurheilukeskus.fi/event/iisi-spinning-45-vatsat-12/
LOCATION:Mältintie 10\, Uusikaupunki\, 23500\, Suomi
END:VEVENT
END:VCALENDAR