BEGIN:VCALENDAR
VERSION:2.0
PRODID:-//Uudenkaupungin Urheilukeskus - ECPv4.6.21//NONSGML v1.0//EN
CALSCALE:GREGORIAN
METHOD:PUBLISH
X-WR-CALNAME:Uudenkaupungin Urheilukeskus
X-ORIGINAL-URL:https://ukinurheilukeskus.fi
X-WR-CALDESC:Events for Uudenkaupungin Urheilukeskus
BEGIN:VEVENT
DTSTART;TZID=Europe/Helsinki:20251124T180000
DTEND;TZID=Europe/Helsinki:20251124T190000
DTSTAMP:20260421T161522
CREATED:20251010T141347Z
LAST-MODIFIED:20251103T103121Z
UID:12764-1764007200-1764010800@ukinurheilukeskus.fi
SUMMARY:Pumppi
DESCRIPTION:Jenni \n
URL:https://ukinurheilukeskus.fi/event/hiit-41/
END:VEVENT
END:VCALENDAR