BEGIN:VCALENDAR
VERSION:2.0
PRODID:-//Uudenkaupungin Urheilukeskus - ECPv4.6.21//NONSGML v1.0//EN
CALSCALE:GREGORIAN
METHOD:PUBLISH
X-WR-CALNAME:Uudenkaupungin Urheilukeskus
X-ORIGINAL-URL:https://ukinurheilukeskus.fi
X-WR-CALDESC:Events for Uudenkaupungin Urheilukeskus
BEGIN:VEVENT
DTSTART;TZID=Europe/Helsinki:20250825T180000
DTEND;TZID=Europe/Helsinki:20250825T190000
DTSTAMP:20260421T201434
CREATED:20250723T112009Z
LAST-MODIFIED:20250723T112044Z
UID:12489-1756144800-1756148400@ukinurheilukeskus.fi
SUMMARY:HIIT
DESCRIPTION:Jenni \n
URL:https://ukinurheilukeskus.fi/event/hiit-29/
END:VEVENT
END:VCALENDAR