BEGIN:VCALENDAR
VERSION:2.0
PRODID:-//Uudenkaupungin Urheilukeskus - ECPv4.6.21//NONSGML v1.0//EN
CALSCALE:GREGORIAN
METHOD:PUBLISH
X-WR-CALNAME:Uudenkaupungin Urheilukeskus
X-ORIGINAL-URL:https://ukinurheilukeskus.fi
X-WR-CALDESC:Events for Uudenkaupungin Urheilukeskus
BEGIN:VEVENT
DTSTART;TZID=Europe/Helsinki:20250721T180000
DTEND;TZID=Europe/Helsinki:20250721T190000
DTSTAMP:20260419T145315
CREATED:20250617T124737Z
LAST-MODIFIED:20250617T125204Z
UID:12433-1753120800-1753124400@ukinurheilukeskus.fi
SUMMARY:HIIT
DESCRIPTION:Jenni \n
URL:https://ukinurheilukeskus.fi/event/hiit-24/
LOCATION:Mältintie 10\, Uusikaupunki\, 23500\, Suomi
END:VEVENT
END:VCALENDAR